BEGIN:VCALENDAR
VERSION:2.0
PRODID:-//Z.P. Sektora Kosmicznego - ECPv5.7.1//NONSGML v1.0//EN
CALSCALE:GREGORIAN
METHOD:PUBLISH
X-WR-CALNAME:Z.P. Sektora Kosmicznego
X-ORIGINAL-URL:https://space.biz.pl/en
X-WR-CALDESC:Events for Z.P. Sektora Kosmicznego
BEGIN:VTIMEZONE
TZID:Europe/Warsaw
BEGIN:DAYLIGHT
TZOFFSETFROM:+0100
TZOFFSETTO:+0200
TZNAME:CEST
DTSTART:20220327T010000
END:DAYLIGHT
BEGIN:STANDARD
TZOFFSETFROM:+0200
TZOFFSETTO:+0100
TZNAME:CET
DTSTART:20221030T010000
END:STANDARD
END:VTIMEZONE
BEGIN:VEVENT
DTSTART;TZID=Europe/Warsaw:20220728T100000
DTEND;TZID=Europe/Warsaw:20220728T170000
DTSTAMP:20260420T014419
CREATED:20220705T103915Z
LAST-MODIFIED:20220705T104244Z
UID:6540-1659002400-1659027600@space.biz.pl
SUMMARY:Dzień Przemysłu Kosmicznego w Gdańsku
DESCRIPTION:Wydarzenie organizowane przez Urząd Marszałkowski Województwa Pomorskiego ma na celu nawiązanie relacji pomiędzy dostawcami technologii kosmicznych a ich odbiorcami. Gdańsk to obszar o znaczących warunkach i zasobach przyrodniczych (morze\, jeziora\, rzeki\, lasy) z infrastrukturą gospodarczo-przemysłową (porty\, stocznie\, zakłady przemysłowe\, składy kontenerowe)\, charakteryzujący się wysoką urbanizacją i związaną z nią infrastrukturą miejską. Trójmiasto jest dużym ośrodkiem akademickim\, gdzie kształci się specjalistów branży kosmicznej\, inżynierów\, przyrodników\, prawników\, menadżerów\, logistyków i innych. \nSpotkanie jest ukierunkowane na pokazanie potencjału polskiego sektora kosmicznego i możliwości jego wykorzystania w różnych dziedzinach gospodarki. Niejednokrotnie przedsiębiorcy\, czy przedstawiciele administracji publicznej nie zdają sobie sprawy ze skali korzyści\, jakie w ich działalności mogłoby przynieść zastosowanie satelitarnego obrazowania\, nawigacji czy telekomunikacji. Przedsiębiorstwa spoza sektora kosmicznego nie mają pełnej wiedzy o technologiach z których mogliby skorzystać aby oferować lepsze rozwiązania i usługi np. wykorzystując dane satelitarne. Wydarzenie ma na celu zapełnić tę lukę.
URL:https://space.biz.pl/en/event/dzien-przemyslu-kosmicznego-w-gdansku/
LOCATION:Siedziba Inkubatora Starter\, Ul. Lęborska 3b\, Gdańsk\, Poland
END:VEVENT
END:VCALENDAR