BEGIN:VCALENDAR
VERSION:2.0
PRODID:-//Z.P. Sektora Kosmicznego - ECPv5.7.1//NONSGML v1.0//EN
CALSCALE:GREGORIAN
METHOD:PUBLISH
X-WR-CALNAME:Z.P. Sektora Kosmicznego
X-ORIGINAL-URL:https://space.biz.pl/en
X-WR-CALDESC:Events for Z.P. Sektora Kosmicznego
BEGIN:VTIMEZONE
TZID:Europe/Warsaw
BEGIN:DAYLIGHT
TZOFFSETFROM:+0100
TZOFFSETTO:+0200
TZNAME:CEST
DTSTART:20210328T010000
END:DAYLIGHT
BEGIN:STANDARD
TZOFFSETFROM:+0200
TZOFFSETTO:+0100
TZNAME:CET
DTSTART:20211031T010000
END:STANDARD
END:VTIMEZONE
BEGIN:VEVENT
DTSTART;TZID=Europe/Warsaw:20210722T080000
DTEND;TZID=Europe/Warsaw:20210722T170000
DTSTAMP:20260422T105329
CREATED:20210722T090404Z
LAST-MODIFIED:20210722T090404Z
UID:6149-1626940800-1626973200@space.biz.pl
SUMMARY:European Rover Challenge 2021 z dwiema formułami i wulkanem marsjańskim
DESCRIPTION:Tegoroczna edycja European Rover Challenge odbędzie się w dniach 10-12 września w Kielcach\, na Politechnice Świętokrzyskiej. Po raz pierwszy w historii zawodnicy ERC wystartują w dwóch formułach: stacjonarnej i zdalnej. Odwiedzający wezmą udział w trzydniowych prelekcjach dotyczących lotów na Marsa\, komercjalizacji Księżyca i wykorzystaniu technologii kosmicznych na Ziemi. Dodatkowo na torze w Kielcach pojawi się największy na świecie\, aktywny wulkan marsjański.  \n10 września 2021 r. na terenie Politechniki Świętokrzyskiej w Kielcach rozpocznie się siódma edycja European Rover Challenge. To pierwszy raz w historii konkursu\, kiedy zawodnicy rywalizować będą w dwóch formułach. W zawodach ON-SITE (stacjonarnych) drużyny wykorzystają zaprojektowany przez siebie łazik\, by zmierzyć się z zadaniami wzorowanymi na wyzwaniach\, przed jakimi stoją roboty w prawdziwych misjach marsjańskich. Zawodnicy biorący udział w formule REMOTE (zdalnej)\, wykonają zadania przy pomocy łazika Leo\, zaprojektowanego przez polski start-up. Dzięki możliwości sterowania łazikiem z dowolnego miejsca na świecie drużyny mają możliwość jeszcze bardziej precyzyjnego odwzorowania pracy inżynierów ESA oraz NASA. W tym roku do finałowego etapu konkursu zakwalifikowało się niemal 40 drużyn z trzech kontynentów. \nDrugą częścią wydarzenia jest Strefa Inspiracji\, w ramach której na uczestników czekają liczne prelekcje i warsztaty. Każdy z trzech dni będzie miał motyw przewodni. W piątek\, 10 września br. eksperci przybliżą temat Marsa i planów dotyczących załogowych misji na Czerwoną Planetę. Drugi dzień ERC poświęcony zostanie Księżycowi i jego biznesowo-ekonomicznemu potencjałowi oraz komercjalizacji sektora kosmicznego. Tegoroczną edycję wydarzenia zakończą rozmowy na temat technologii kosmicznych na Ziemi oraz sukcesów polskich i zagranicznych firm w tej dziedzinie. Wśród prelegentów nie zabraknie ekspertów ze światowych organizacji oraz krajowych przedstawicieli sektora kosmicznego. Zaproszenie na wydarzenie przyjęli między innymi dr Robert Zubrin – założyciel i prezes Mars Society\, prof. Chris Welch\, prezes najstarszej organizacji kosmicznej British Interplanetary Society\, Cesar Urrutia – współzałożyciel SPACE AG\, Mayank – założyciel i dyrektor zarządzający Celestial Space Technologies GmbH czy Billy Almon\, astrobiofuturysta i były dyrektor kreatywny w Walt Disney Imagineering. \nJedną z największych atrakcji tegorocznej edycji jest Marsyard\, czyli marsjański tor\, po którym będą jeździć łaziki. Organizatorzy zdecydowali\, że w tym roku w Kielcach powstanie największy na świecie\, niemal dwumetrowy\, aktywny wulkan marsjański. Precyzyjne odtworzenie geologicznej historii gleby obszaru Elysium Planitia sprawia\, że kielecki projekt będzie jedyną tego typu instalacją na świecie.  Zmagania drużyn w zawodach oraz prelekcje ekspertów będzie można śledzić także online. Streaming ze wszystkich trzech dni European Rover Challenge dostępny będzie na stronie internetowej roverchallenge.eu\, na stronie wydarzenia na Facebooku oraz na kanale SpaceTalks na YouTube. Wstęp na wydarzenie jest bezpłatny. \nProjekt dofinansowany jest z programu „Społeczna odpowiedzialność nauki” Ministra Edukacji i Nauki. \nWspółorganizatorami wydarzenia są Europejska Fundacja Kosmiczna\, Specjalna Strefa Ekonomiczna „Starachowice” S.A.\, Województwo Świętokrzyskie oraz Politechnika Świętokrzyska. Partnerem Strategicznym Wydarzenia jest Poznańskie Centrum Superkomputerowo-Sieciowe. Miasto Kielce pełni funkcję Miasta Gospodarza. Patronat honorowy nad wydarzeniem objęli Europejska Agencja Kosmiczna\, Minister Edukacji i Nauki\, Minister Spraw Zagranicznych\, EURISY\, Związek Pracodawców Sektora Kosmicznego oraz Polski Internet Optyczny PIONIER.
URL:https://space.biz.pl/en/event/european-rover-challenge-2021-z-dwiema-formulami-i-wulkanem-marsjanskim/
ATTACH;FMTTYPE=image/jpeg:https://space.biz.pl/wp-content/uploads/2021/07/ERC.jpg
END:VEVENT
END:VCALENDAR