BEGIN:VCALENDAR
VERSION:2.0
PRODID:-//Z.P. Sektora Kosmicznego - ECPv5.7.1//NONSGML v1.0//EN
CALSCALE:GREGORIAN
METHOD:PUBLISH
X-WR-CALNAME:Z.P. Sektora Kosmicznego
X-ORIGINAL-URL:https://space.biz.pl/en
X-WR-CALDESC:Events for Z.P. Sektora Kosmicznego
BEGIN:VTIMEZONE
TZID:Europe/Warsaw
BEGIN:DAYLIGHT
TZOFFSETFROM:+0100
TZOFFSETTO:+0200
TZNAME:CEST
DTSTART:20220327T010000
END:DAYLIGHT
BEGIN:STANDARD
TZOFFSETFROM:+0200
TZOFFSETTO:+0100
TZNAME:CET
DTSTART:20221030T010000
END:STANDARD
END:VTIMEZONE
BEGIN:VEVENT
DTSTART;TZID=Europe/Warsaw:20220629T110000
DTEND;TZID=Europe/Warsaw:20220629T133000
DTSTAMP:20260420T051016
CREATED:20220630T141015Z
LAST-MODIFIED:20220630T141015Z
UID:6523-1656500400-1656509400@space.biz.pl
SUMMARY:Finał 7. edycji programu stażowego Space Fellowship Programe
DESCRIPTION:Uroczystość wręczenia dyplomów laureatom 7. edycji programu stażowego prowadzonego przez ARP SA i ZPSK. W tym roku 6-miesięczne staże w jednostkach sektora kosmicznego rozpocznie 17 stażystów. Konkurs stażowy cieszą się dużą renomą i zainteresowaniem studentów i młodych absolwentów chcących rozwijać swoją karierę w obszarze technologii kosmicznych.
URL:https://space.biz.pl/en/event/final-7-edycji-programu-stazowego-space-fellowship-programe/
LOCATION:Siedziba ARP S.A.\, Ul. Nowy Świat 6/12\, Warszawa\, 00-400\, Poland
END:VEVENT
END:VCALENDAR