BEGIN:VCALENDAR
VERSION:2.0
PRODID:-//Z.P. Sektora Kosmicznego - ECPv5.7.1//NONSGML v1.0//EN
CALSCALE:GREGORIAN
METHOD:PUBLISH
X-WR-CALNAME:Z.P. Sektora Kosmicznego
X-ORIGINAL-URL:https://space.biz.pl/en
X-WR-CALDESC:Events for Z.P. Sektora Kosmicznego
BEGIN:VTIMEZONE
TZID:Europe/Warsaw
BEGIN:DAYLIGHT
TZOFFSETFROM:+0100
TZOFFSETTO:+0200
TZNAME:CEST
DTSTART:20220327T010000
END:DAYLIGHT
BEGIN:STANDARD
TZOFFSETFROM:+0200
TZOFFSETTO:+0100
TZNAME:CET
DTSTART:20221030T010000
END:STANDARD
END:VTIMEZONE
BEGIN:VEVENT
DTSTART;TZID=Europe/Warsaw:20220830T100000
DTEND;TZID=Europe/Warsaw:20220830T133000
DTSTAMP:20260420T001041
CREATED:20220823T123536Z
LAST-MODIFIED:20220823T124025Z
UID:6575-1661853600-1661866200@space.biz.pl
SUMMARY:Konferencja Sektorowej Rady Kompetencji z udziałem gen. Mirosława Hermaszewskiego
DESCRIPTION:Sektorowa Rada Kompetencji Przemysłu Lotniczo-Kosmicznego zaprasza na wydarzenie podsumowujące działalność Rady. Podczas spotkania będzie mowa o strategii jednej z polskich firm kosmicznych w dojściu na Giełdę Papierów Wartościowych oraz szansach rozwoju dla innych podmiotów polskiego sektora kosmicznego. Organizatorzy pokażą także jak działać\, aby razem ze światowymi liderami dysponującymi wiedzą i doświadczeniem\, wysyłać dziesiątki satelitów w przestrzeń kosmiczną. Przedstawią również przyszłość operacji lotniczych. \nSpecjalnym gościem Konferencji będzie jej Przewodniczący\, pierwszy i jedyny kosmonauta Polski\, gen. Mirosław Hermaszewski. \nW Konferencji można będzie uczestniczyć on-line oraz stacjonarnie w Warszawie (zarejestrowani goście). Udział jest bezpłatny. Link do rejestracji zostanie podany w późniejszym terminie.
URL:https://space.biz.pl/en/event/konferencja-rady-z-udzialem-gen-miroslawa-hermaszewskiego/
LOCATION:Kino Elektronik\, ul. Gen. Zajączka 7\, Warszawa
END:VEVENT
END:VCALENDAR