BEGIN:VCALENDAR
VERSION:2.0
PRODID:-//Z.P. Sektora Kosmicznego - ECPv5.7.1//NONSGML v1.0//EN
CALSCALE:GREGORIAN
METHOD:PUBLISH
X-WR-CALNAME:Z.P. Sektora Kosmicznego
X-ORIGINAL-URL:https://space.biz.pl/en
X-WR-CALDESC:Events for Z.P. Sektora Kosmicznego
BEGIN:VTIMEZONE
TZID:Europe/Warsaw
BEGIN:DAYLIGHT
TZOFFSETFROM:+0100
TZOFFSETTO:+0200
TZNAME:CEST
DTSTART:20220327T010000
END:DAYLIGHT
BEGIN:STANDARD
TZOFFSETFROM:+0200
TZOFFSETTO:+0100
TZNAME:CET
DTSTART:20221030T010000
END:STANDARD
END:VTIMEZONE
BEGIN:VEVENT
DTSTART;TZID=Europe/Warsaw:20220906T100000
DTEND;TZID=Europe/Warsaw:20220909T180000
DTSTAMP:20260420T031255
CREATED:20220715T094232Z
LAST-MODIFIED:20220715T094941Z
UID:6562-1662458400-1662746400@space.biz.pl
SUMMARY:XXX Międzynarodowy Salon Przemysłu Obronnego MSPO
DESCRIPTION:MSPO to trzecia wystawa zbrojeniowa Europy\, po targach w Paryżu i Londynie. W tym roku obchodzi swój 30-letni jubileusz. Sektor kosmiczny jest tradycyjnie obecny ze swoim stoiskiem\, a także oddzielnymi stoiskami poszczególnych podmiotów. W czasie targów odbywa się prezentacja sprzętu wojskowego i technologii oraz biznesowe spotkania i umowy zawierane pomiędzy producentami sektora obronnego bądź pokrewnych z różnych kontynentów. Partnerem strategicznym Salonu jest Polska Grupa Zbrojeniowa. \nSposród podmiotów sektora kosmicznego swoje stoiska przygotowują Jakusz Sp. z o.o.\, Polska Agencja Kosmiczna\, SBŁ – Instytut Lotnictwa\, SBŁ – PIAP\, Thorium Space. \nSzczegóły dostępne są tutaj: https://www.targikielce.pl/mspo/lista-wystawcow  \nZapraszamy
URL:https://space.biz.pl/en/event/xxx-miedzynarodowy-salon-przemyslu-obronnego-mspo/
LOCATION:ul. Zakładowa 1\, Kielce\, ul. Zakładowa 1\, Kielce\, Poland
END:VEVENT
END:VCALENDAR