BEGIN:VCALENDAR
VERSION:2.0
PRODID:-//Z.P. Sektora Kosmicznego - ECPv5.7.1//NONSGML v1.0//EN
CALSCALE:GREGORIAN
METHOD:PUBLISH
X-WR-CALNAME:Z.P. Sektora Kosmicznego
X-ORIGINAL-URL:https://space.biz.pl
X-WR-CALDESC:Wydarzenia na Z.P. Sektora Kosmicznego
BEGIN:VTIMEZONE
TZID:Europe/Warsaw
BEGIN:DAYLIGHT
TZOFFSETFROM:+0100
TZOFFSETTO:+0200
TZNAME:CEST
DTSTART:20240331T010000
END:DAYLIGHT
BEGIN:STANDARD
TZOFFSETFROM:+0200
TZOFFSETTO:+0100
TZNAME:CET
DTSTART:20241027T010000
END:STANDARD
END:VTIMEZONE
BEGIN:VEVENT
DTSTART;VALUE=DATE:20240604
DTEND;VALUE=DATE:20240605
DTSTAMP:20260422T103850
CREATED:20240303T230035Z
LAST-MODIFIED:20241011T131741Z
UID:6943-1717459200-1717545599@space.biz.pl
SUMMARY:Forum Sektora Kosmicznego 2024
DESCRIPTION:Relacja z Forum Sektora Kosmicznego 2024 – do pobrania tutaj\n\n\n		\n		\n			\n				\n			\n			\n				\n			\n			\n				\n			\n			\n				\n			\n			\n				\n			\n			\n				\n			\n			\n				\n			\n			\n				\n			\n			\n				\n			\n			\n				\n			\n			\n				\n			\n			\n				\n			\n			\n				\n			\n			\n				\n			\n			\n				\n			\n			\n				\n			\n			\n				\n			\n			\n				\n			\n			\n				\n			\n			\n				\n			\n			\n				\n			\n			\n				\n			\n			\n				\n			\n			\n				\n			\n		\n\n\nPREZENTACJE Z FORUM SEKTORA KOSMICZNEGO 2024 DO POBRANIA:\n\nWspółpraca z Europejską Agencją Kosmiczną – Piotr Zabadała\nOpportunities for the Polish industry in the NAVISP program – Pierluigi Mancini\nUpcoming scientific missions and key opportunities for the Polish  sector towards CM25 and CM28 – Frederic Safa\nSmall task force for Poland: Technology development support and opportunities in other programs – Stephane Combes\nEwolucja programu Copernicus i nowe perspektywy dla rozwoju sektora obserwacji ziemi w Polsce i Europie – Anna Burzykowska\nFinansowanie innowacji ze środków ESA – Paweł Kwiatkowski\nKOMENTARZE ZPSK DOTYCZĄCE POLSKIEJ STRATEGII KOSMICZNEJ – Paweł Wojtkiewicz\nPOLSKA STRATEGIA KOSMICZNA. Przegląd realizacji wskaźników – Seweryn Ścibior\n20 lat współpracy UE-ESA: osiągnięcia i przyszłe wyzwania – Otylia Trzaskalska-Nuebel\nEuropean Space Partnership in HE: „European Partnership for Globally competitive Space Systems” – Piotr Świerczyński\nJak współpracować z LSI? – Monika Krzyżanowska\nSME4SPACE activities and support to the European space SMEs – Vesselin Vassilev\nKONKURS DIRECTION: SPACE – New Space Foundation\n\nForum Sektora Kosmicznego 2024 odbędzie się dn. 4 czerwca 2024 r. w Warszawskim Centrum EXPO XXI (ul. Prądzyńskiego 12/14\, 01-222 Warszawa). Forum Sektora Kosmicznego organizowane jest od 2016 roku i co dwa lata gromadzi około 400 uczestników: przedstawicieli firm\, ośrodków naukowych\, administracji oraz mediów.\nFSK 2024 będzie składać się z części wystawienniczej\, gdzie będą prezentowane najnowsze rozwiązania i osiągnięcia polskich firm kosmicznych\, a także z części merytorycznej w postaci zorganizowanej równolegle konferencji i warsztatów tematycznych dla branży kosmicznej. Forum Sektora Kosmicznego będzie nie tylko stanowić platformę wymiany wiedzy oraz doświadczeń sektora kosmicznego\, ale będzie także stanowić istotny wkład w dyskusję nad kierunkami rozwoju branży.\nWydarzenie ma na celu promocję polskiego sektora kosmicznego w kraju i zagranicą. Obok Związku Pracodawców Sektora Kosmicznego jego współorganizatorami są Ministerstwo Rozwoju i Technologii\, Polska Agencja Kosmiczna oraz Agencja Rozwoju Przemysłu.\nKolejne informacje na temat wydarzenia\, związane z nim dokumenty oraz link do rejestracji będą się sukcesywnie pojawiać na tej stronie.\n\nLINK DO REJESTRACJI NA FORUM SEKTORA KOSMICZNEGO 2024: REJESTRACJA ZAMNIĘTA.\n\nProgram Forum Sektora Kosmicznego 2024 dostępny jest pod tym linkiem.\nOrganizatorWspółorganizatorzyPatronat HonorowyPatronatPatronat Medialny
URL:https://space.biz.pl/event/forum-sektora-kosmicznego-2024/
LOCATION:EXPO XXI\, Ignacego Prądzyńskiego 12/14\, Warszawa\, mazowieckie\, 01-222\, Poland
CATEGORIES:PL
END:VEVENT
END:VCALENDAR